BEGIN:VCALENDAR
VERSION:2.0
PRODID:-//SFFS - Science Fiction Freunde Stuttgart - ECPv5.16.3.1//NONSGML v1.0//EN
CALSCALE:GREGORIAN
METHOD:PUBLISH
X-WR-CALNAME:SFFS - Science Fiction Freunde Stuttgart
X-ORIGINAL-URL:https://sf-stammtisch-stuttgart.de
X-WR-CALDESC:Veranstaltungen für SFFS - Science Fiction Freunde Stuttgart
BEGIN:VTIMEZONE
TZID:Europe/Berlin
BEGIN:DAYLIGHT
TZOFFSETFROM:+0100
TZOFFSETTO:+0200
TZNAME:CEST
DTSTART:20250330T010000
END:DAYLIGHT
BEGIN:STANDARD
TZOFFSETFROM:+0200
TZOFFSETTO:+0100
TZNAME:CET
DTSTART:20251026T010000
END:STANDARD
END:VTIMEZONE
BEGIN:VEVENT
DTSTART;TZID=Europe/Berlin:20251010T190000
DTEND;TZID=Europe/Berlin:20251010T220000
DTSTAMP:20260423T213901
CREATED:20250709T090609Z
LAST-MODIFIED:20251007T075431Z
UID:5050-1760122800-1760133600@sf-stammtisch-stuttgart.de
SUMMARY:Oktober-Stammtisch auf Discord mit Kurzgeschichten-Lesezirkel
DESCRIPTION:ACHTUNG! Aufgrund des Feiertages wird dieser Stammtisch um eine Woche auf den 10. Oktober verschoben! \nIm „offiziellen“ Teil steht heute wieder die Besprechung einer Story aus der Kurzgeschichtensammlung “Ikarus 2002. Best of Science Fiction” (hrsg. W. Jeschke) auf dem Programm. \nWelche Story heute auf dem Programm steht\, werden wir in Kürze bekanntgeben. \nWir starten um 19h. Interessierte Neueinsteiger sind jederzeit willkommen. Über diesen Link gelangt Ihr in unsere SFFS-Café auf Discord.
URL:https://sf-stammtisch-stuttgart.de/event/oktober-stammtisch-auf-discord-mit-kurzgeschichten-lesezirkel-4/
LOCATION:Discord SFFS-Café\, Deutschland
ATTACH;FMTTYPE=image/jpeg:https://sf-stammtisch-stuttgart.de/wp-content/uploads/2021/04/IMG_0758-scaled.jpeg
END:VEVENT
END:VCALENDAR