BEGIN:VCALENDAR
VERSION:2.0
PRODID:-//SFFS - Science Fiction Freunde Stuttgart - ECPv5.16.3.1//NONSGML v1.0//EN
CALSCALE:GREGORIAN
METHOD:PUBLISH
X-WR-CALNAME:SFFS - Science Fiction Freunde Stuttgart
X-ORIGINAL-URL:https://sf-stammtisch-stuttgart.de
X-WR-CALDESC:Veranstaltungen für SFFS - Science Fiction Freunde Stuttgart
BEGIN:VTIMEZONE
TZID:Europe/Berlin
BEGIN:DAYLIGHT
TZOFFSETFROM:+0100
TZOFFSETTO:+0200
TZNAME:CEST
DTSTART:20250330T010000
END:DAYLIGHT
BEGIN:STANDARD
TZOFFSETFROM:+0200
TZOFFSETTO:+0100
TZNAME:CET
DTSTART:20251026T010000
END:STANDARD
END:VTIMEZONE
BEGIN:VEVENT
DTSTART;TZID=Europe/Berlin:20251024T180000
DTEND;TZID=Europe/Berlin:20251024T220000
DTSTAMP:20260423T213459
CREATED:20250709T092917Z
LAST-MODIFIED:20251013T084851Z
UID:5069-1761328800-1761343200@sf-stammtisch-stuttgart.de
SUMMARY:Oktober-Hock im Föhrich
DESCRIPTION:Achtung! Aufgrund diverser Terminkollisionen (insbesondere mit dem BuCon) wird der Föhrich-Hock um eine Woche verschoben auf den 24.10.! \nJeden dritten Freitag im Monat treffen wir uns bei “Bier & Bauernschnitzel” im „Föhrich“. Kein „offizielles Programm“\, einfach nur ein gemütlicher Hock zum Quatschen und Fachsimpeln. \nNeulinge sind jederzeit willkommen. \nWir treffen uns ab ca. 18 Uhr.
URL:https://sf-stammtisch-stuttgart.de/event/oktober-hock-im-foehrich-5/
LOCATION:Der Föhrich\, Feuerbach\, Triebweg 95\, Stuttgart-Feuerbach\, 70469\, Deutschland
ATTACH;FMTTYPE=image/jpeg:https://sf-stammtisch-stuttgart.de/wp-content/uploads/2021/11/Asimov-und-ASchnitzel-2-scaled.jpeg
END:VEVENT
END:VCALENDAR