BEGIN:VCALENDAR
VERSION:2.0
PRODID:-//SFFS - Science Fiction Freunde Stuttgart - ECPv5.16.3.1//NONSGML v1.0//EN
CALSCALE:GREGORIAN
METHOD:PUBLISH
X-WR-CALNAME:SFFS - Science Fiction Freunde Stuttgart
X-ORIGINAL-URL:https://sf-stammtisch-stuttgart.de
X-WR-CALDESC:Veranstaltungen für SFFS - Science Fiction Freunde Stuttgart
BEGIN:VTIMEZONE
TZID:Europe/Berlin
BEGIN:DAYLIGHT
TZOFFSETFROM:+0100
TZOFFSETTO:+0200
TZNAME:CEST
DTSTART:20220327T010000
END:DAYLIGHT
BEGIN:STANDARD
TZOFFSETFROM:+0200
TZOFFSETTO:+0100
TZNAME:CET
DTSTART:20221030T010000
END:STANDARD
END:VTIMEZONE
BEGIN:VEVENT
DTSTART;TZID=Europe/Berlin:20221104T190000
DTEND;TZID=Europe/Berlin:20221105T020000
DTSTAMP:20260421T185300
CREATED:20211205T141537Z
LAST-MODIFIED:20221103T102953Z
UID:4508-1667588400-1667613600@sf-stammtisch-stuttgart.de
SUMMARY:November-Stammtisch mit Lesezirkel-Pitch
DESCRIPTION:Ein Höhepunkt im Stammtischler-Leben steht diesen Monat wieder an: der “Lesezirkel-Pitch”. \nHeute werden die Kandidaten für die nächste Lesezirkel-Runde vorgestellt. Jeder der möchte\, stellt einen Roman zu Auswahl und beschreibt diesen kurz und möglichst enthusiastisch. \nAus dieser Lesezirkel-Shortlist werden wir dann in den Folgetagen die Romane für die nächsten Lesezirkel-Runden auswählen. \nInteressierte Neueinsteiger sind jederzeit willkommen. Über diesen Link gelangt Ihr in unser SFFS-Café auf Discord.
URL:https://sf-stammtisch-stuttgart.de/event/november-stammtisch-mit-lesezirkel-spektrum-von-sergei-lukyanenko/
LOCATION:Discord SFFS-Café\, Deutschland
ATTACH;FMTTYPE=image/jpeg:https://sf-stammtisch-stuttgart.de/wp-content/uploads/2020/03/IMG_0483-scaled.jpg
END:VEVENT
END:VCALENDAR