BEGIN:VCALENDAR
VERSION:2.0
PRODID:-//SFFS - Science Fiction Freunde Stuttgart - ECPv5.16.3.1//NONSGML v1.0//EN
CALSCALE:GREGORIAN
METHOD:PUBLISH
X-WR-CALNAME:SFFS - Science Fiction Freunde Stuttgart
X-ORIGINAL-URL:https://sf-stammtisch-stuttgart.de
X-WR-CALDESC:Veranstaltungen für SFFS - Science Fiction Freunde Stuttgart
BEGIN:VTIMEZONE
TZID:Europe/Berlin
BEGIN:DAYLIGHT
TZOFFSETFROM:+0100
TZOFFSETTO:+0200
TZNAME:CEST
DTSTART:20250330T010000
END:DAYLIGHT
BEGIN:STANDARD
TZOFFSETFROM:+0200
TZOFFSETTO:+0100
TZNAME:CET
DTSTART:20251026T010000
END:STANDARD
END:VTIMEZONE
BEGIN:VEVENT
DTSTART;TZID=Europe/Berlin:20251114T190000
DTEND;TZID=Europe/Berlin:20251114T223000
DTSTAMP:20260423T231731
CREATED:20250709T083455Z
LAST-MODIFIED:20251110T101726Z
UID:5038-1763146800-1763159400@sf-stammtisch-stuttgart.de
SUMMARY:November-Discord-Stammtisch mit Roman-Lesezirkel
DESCRIPTION:ACHTUNG! Aufgrund einer Terminkollision  wird diese Veranstaltung um eine Woche verschoben. Wir treffen uns nun am 14.11.  \nAls Hauptprogrammpunkt\, bevor wir uns dem gemütlichen Schwof widmen\, werden wir im Rahmen des Lesezirkels den folgenden Roman besprechen: \nSamuel R. Delany – “Babel-17” \nWir starten um 19h. Interessierte Neueinsteiger sind jederzeit willkommen. Über diesen Link gelangt Ihr in unser SFFS-Café auf Discord.
URL:https://sf-stammtisch-stuttgart.de/event/november-discord-stammtisch-mit-roman-lesezirkel-2/
LOCATION:Discord SFFS-Café\, Deutschland
ATTACH;FMTTYPE=image/jpeg:https://sf-stammtisch-stuttgart.de/wp-content/uploads/2020/06/IMG_0594.jpeg
END:VEVENT
END:VCALENDAR