BEGIN:VCALENDAR
VERSION:2.0
PRODID:-//SFFS - Science Fiction Freunde Stuttgart - ECPv5.16.3.1//NONSGML v1.0//EN
CALSCALE:GREGORIAN
METHOD:PUBLISH
X-WR-CALNAME:SFFS - Science Fiction Freunde Stuttgart
X-ORIGINAL-URL:https://sf-stammtisch-stuttgart.de
X-WR-CALDESC:Veranstaltungen für SFFS - Science Fiction Freunde Stuttgart
BEGIN:VTIMEZONE
TZID:Europe/Berlin
BEGIN:DAYLIGHT
TZOFFSETFROM:+0100
TZOFFSETTO:+0200
TZNAME:CEST
DTSTART:20220327T010000
END:DAYLIGHT
BEGIN:STANDARD
TZOFFSETFROM:+0200
TZOFFSETTO:+0100
TZNAME:CET
DTSTART:20221030T010000
END:STANDARD
END:VTIMEZONE
BEGIN:VEVENT
DTSTART;TZID=Europe/Berlin:20220520T190000
DTEND;TZID=Europe/Berlin:20220521T020000
DTSTAMP:20260422T124737
CREATED:20211205T140719Z
LAST-MODIFIED:20220519T160351Z
UID:4502-1653073200-1653098400@sf-stammtisch-stuttgart.de
SUMMARY:Mai-Stammtisch mit Lesezirkel "Die Möbel des Teufels" von Heinrich Steinfest
DESCRIPTION:ACHTUNG! Aufgrund unseres Ausfluges nach Wetzlar Anfang Mai verschieben wir den Discord-Stammtisch auf Mitte Mai. Föhrich-Hock entfällt! \nAls Hauptprogrammpunkt\, bevor wir uns dem gemütlichen Schwof widmen\, werden wir im Rahmen des Lesezirkels an diesem Tag das Buch “Die Möbel des Teufels” von Heinrich Steinfest  besprechen. \nInteressierte Neueinsteiger sind jederzeit willkommen. Unter diesem Link gelangt Ihr in unser SFFS-Café auf Discord .
URL:https://sf-stammtisch-stuttgart.de/event/mai-stammtisch-mit-lesezirkel-die-moebel-des-teufels-von-heinrich-steinfest/
LOCATION:Discord SFFS-Café\, Deutschland
ATTACH;FMTTYPE=image/jpeg:https://sf-stammtisch-stuttgart.de/wp-content/uploads/2020/03/IMG_0483-scaled.jpg
END:VEVENT
END:VCALENDAR