BEGIN:VCALENDAR
VERSION:2.0
PRODID:-//SFFS - Science Fiction Freunde Stuttgart - ECPv5.16.3.1//NONSGML v1.0//EN
CALSCALE:GREGORIAN
METHOD:PUBLISH
X-WR-CALNAME:SFFS - Science Fiction Freunde Stuttgart
X-ORIGINAL-URL:https://sf-stammtisch-stuttgart.de
X-WR-CALDESC:Veranstaltungen für SFFS - Science Fiction Freunde Stuttgart
BEGIN:VTIMEZONE
TZID:Europe/Berlin
BEGIN:DAYLIGHT
TZOFFSETFROM:+0100
TZOFFSETTO:+0200
TZNAME:CEST
DTSTART:20230326T010000
END:DAYLIGHT
BEGIN:STANDARD
TZOFFSETFROM:+0200
TZOFFSETTO:+0100
TZNAME:CET
DTSTART:20231029T010000
END:STANDARD
END:VTIMEZONE
BEGIN:VEVENT
DTSTART;TZID=Europe/Berlin:20230303T190000
DTEND;TZID=Europe/Berlin:20230303T230000
DTSTAMP:20260421T031407
CREATED:20221126T102306Z
LAST-MODIFIED:20230302T134005Z
UID:4686-1677870000-1677884400@sf-stammtisch-stuttgart.de
SUMMARY:März-Discord-Stammtisch mit Lesezirkel "Eine Welt dazwischen" v. Norman Spinrad
DESCRIPTION:Als Hauptprogrammpunkt\, bevor wir uns dem gemütlichen Schwof widmen\, werden wir im Rahmen des Lesezirkels an diesem Tag das Buch “Eine Welt dazwischen” (A World Between) von Norman Spinrad” besprechen. \nInteressierte Neueinsteiger sind jederzeit willkommen. Über diesen Zugangslink gelangt Ihr in unser SFFS-Café auf Discord posten.
URL:https://sf-stammtisch-stuttgart.de/event/maerz-discord-stammtisch-mit-lesezirkel-eine-welt-dazwischen-v-norman-spinrad/
ATTACH;FMTTYPE=image/jpeg:https://sf-stammtisch-stuttgart.de/wp-content/uploads/2022/11/IMG_1525.jpeg
END:VEVENT
END:VCALENDAR