BEGIN:VCALENDAR
VERSION:2.0
PRODID:-//SFFS - Science Fiction Freunde Stuttgart - ECPv5.16.3.1//NONSGML v1.0//EN
CALSCALE:GREGORIAN
METHOD:PUBLISH
X-WR-CALNAME:SFFS - Science Fiction Freunde Stuttgart
X-ORIGINAL-URL:https://sf-stammtisch-stuttgart.de
X-WR-CALDESC:Veranstaltungen für SFFS - Science Fiction Freunde Stuttgart
BEGIN:VTIMEZONE
TZID:Europe/Berlin
BEGIN:DAYLIGHT
TZOFFSETFROM:+0100
TZOFFSETTO:+0200
TZNAME:CEST
DTSTART:20220327T010000
END:DAYLIGHT
BEGIN:STANDARD
TZOFFSETFROM:+0200
TZOFFSETTO:+0100
TZNAME:CET
DTSTART:20221030T010000
END:STANDARD
END:VTIMEZONE
BEGIN:VEVENT
DTSTART;TZID=Europe/Berlin:20221202T190000
DTEND;TZID=Europe/Berlin:20221203T020000
DTSTAMP:20260421T134517
CREATED:20211205T162638Z
LAST-MODIFIED:20221201T080327Z
UID:4533-1670007600-1670032800@sf-stammtisch-stuttgart.de
SUMMARY:Discord-Stammtisch mit exklusiver Premierenlesung: „A.R.T“ von Kris Brynn
DESCRIPTION:Im November erschien bei Knaur “A.R.T. – Coup zwischen den Sternen”\, der neue SF-Roman von Stammtischlerin Regine aka Kris Brynn. \nAus diesem Anlass bekommen Stammtischler (und selbstverständlich auch alle weiteren Interessierten) beim heutigen Discord-Treffen eine exklusive Lesung aus diesem neuen Werk. Und wer weiß\, vielleicht haben einige von uns das Buch bis dahin schon gelesen und es entwickelt sich noch eine der bekanntlich spannenden Lesezirkel-Diskussionen unter den Anwesenden. \nWir starten um 19h. Interessierte Neueinsteiger sind jederzeit willkommen. Über diesen Zugangslink kommt gelangt Ihr in unser SFFFS-Café auf Discord.
URL:https://sf-stammtisch-stuttgart.de/event/dezember-stammtisch-kris-brynn/
LOCATION:Discord SFFS-Café\, Deutschland
ATTACH;FMTTYPE=image/jpeg:https://sf-stammtisch-stuttgart.de/wp-content/uploads/2022/07/Art_STAMMTISCH.jpg
END:VEVENT
END:VCALENDAR